Package: ttgsea Version: 1.15.0 Command: chmod a+r ttgsea -R && E:\biocbuild\bbs-3.21-bioc\R\bin\R.exe CMD build --keep-empty-dirs --no-resave-data ttgsea StartedAt: 2025-02-09 22:12:15 -0500 (Sun, 09 Feb 2025) EndedAt: 2025-02-09 22:14:31 -0500 (Sun, 09 Feb 2025) EllapsedTime: 135.4 seconds RetCode: 1 Status: ERROR PackageFile: None PackageFileSize: NA