Package: ttgsea Version: 1.15.0 Command: E:\biocbuild\bbs-3.21-bioc\R\bin\R.exe CMD INSTALL ttgsea StartedAt: 2025-02-09 16:57:28 -0500 (Sun, 09 Feb 2025) EndedAt: 2025-02-09 16:57:45 -0500 (Sun, 09 Feb 2025) EllapsedTime: 16.3 seconds RetCode: 0 Status: OK