Package: tweeDEseq Version: 1.53.0 Command: rm -rf tweeDEseq.buildbin-libdir && mkdir tweeDEseq.buildbin-libdir && /Users/biocbuild/BBS/utils/build-universal.sh tweeDEseq_1.53.0.tar.gz /Library/Frameworks/R.framework/Resources/bin/R tweeDEseq.buildbin-libdir StartedAt: 2025-02-12 22:39:25 -0500 (Wed, 12 Feb 2025) EndedAt: 2025-02-12 22:39:30 -0500 (Wed, 12 Feb 2025) EllapsedTime: 5.2 seconds RetCode: 0 Status: OK PackageFile: tweeDEseq_1.53.0.tgz PackageFileSize: 351.6 KiB