Package: tweeDEseq Version: 1.53.0 Command: /Library/Frameworks/R.framework/Resources/bin/R CMD build --keep-empty-dirs --no-resave-data tweeDEseq StartedAt: 2025-02-09 17:51:23 -0500 (Sun, 09 Feb 2025) EndedAt: 2025-02-09 17:58:55 -0500 (Sun, 09 Feb 2025) EllapsedTime: 452.4 seconds RetCode: 0 Status: OK PackageFile: tweeDEseq_1.53.0.tar.gz PackageFileSize: 233.4 KiB