Package: tweeDEseq Version: 1.53.0 Command: /Library/Frameworks/R.framework/Resources/bin/R CMD INSTALL tweeDEseq StartedAt: 2025-02-12 15:23:24 -0500 (Wed, 12 Feb 2025) EndedAt: 2025-02-12 15:23:29 -0500 (Wed, 12 Feb 2025) EllapsedTime: 4.5 seconds RetCode: 0 Status: OK