Package: tweeDEseq Version: 1.53.0 Command: /home/biocbuild/R/R/bin/R CMD build --keep-empty-dirs --no-resave-data tweeDEseq StartedAt: 2025-01-28 03:03:08 -0000 (Tue, 28 Jan 2025) EndedAt: 2025-01-28 03:15:40 -0000 (Tue, 28 Jan 2025) EllapsedTime: 752.3 seconds RetCode: 0 Status: OK PackageFile: tweeDEseq_1.53.0.tar.gz PackageFileSize: 230.6 KiB