Package: tweeDEseq Version: 1.53.0 Command: /home/biocbuild/R/R/bin/R CMD INSTALL tweeDEseq StartedAt: 2025-01-29 20:23:57 -0000 (Wed, 29 Jan 2025) EndedAt: 2025-01-29 20:24:09 -0000 (Wed, 29 Jan 2025) EllapsedTime: 11.9 seconds RetCode: 0 Status: OK