Package: tweeDEseq Version: 1.53.0 Command: rm -rf tweeDEseq.buildbin-libdir && mkdir tweeDEseq.buildbin-libdir && /Users/biocbuild/BBS/utils/build-universal.sh tweeDEseq_1.53.0.tar.gz /Library/Frameworks/R.framework/Resources/bin/R tweeDEseq.buildbin-libdir StartedAt: 2025-02-10 01:21:37 -0500 (Mon, 10 Feb 2025) EndedAt: 2025-02-10 01:21:54 -0500 (Mon, 10 Feb 2025) EllapsedTime: 17.6 seconds RetCode: 0 Status: OK PackageFile: tweeDEseq_1.53.0.tgz PackageFileSize: 353.1 KiB