Package: tweeDEseq Version: 1.53.0 Command: /Library/Frameworks/R.framework/Resources/bin/R CMD build --keep-empty-dirs --no-resave-data tweeDEseq StartedAt: 2025-02-09 18:47:19 -0500 (Sun, 09 Feb 2025) EndedAt: 2025-02-09 18:55:48 -0500 (Sun, 09 Feb 2025) EllapsedTime: 509.5 seconds RetCode: 0 Status: OK PackageFile: tweeDEseq_1.53.0.tar.gz PackageFileSize: 234.4 KiB