Package: tweeDEseq Version: 1.53.0 Command: /Library/Frameworks/R.framework/Resources/bin/R CMD check --install=check:tweeDEseq.install-out.txt --library=/Library/Frameworks/R.framework/Resources/library --no-vignettes --timings tweeDEseq_1.53.0.tar.gz StartedAt: 2025-02-10 00:16:26 -0500 (Mon, 10 Feb 2025) EndedAt: 2025-02-10 00:17:42 -0500 (Mon, 10 Feb 2025) EllapsedTime: 75.6 seconds RetCode: 0 Status: WARNINGS CheckDir: tweeDEseq.Rcheck Warnings: 1