Package: tweeDEseq Version: 1.53.0 Command: /Library/Frameworks/R.framework/Resources/bin/R CMD INSTALL tweeDEseq StartedAt: 2025-02-09 15:37:13 -0500 (Sun, 09 Feb 2025) EndedAt: 2025-02-09 15:37:27 -0500 (Sun, 09 Feb 2025) EllapsedTime: 13.9 seconds RetCode: 0 Status: OK