Package: tweeDEseq Version: 1.53.0 Command: /home/biocbuild/bbs-3.21-bioc/R/bin/R CMD INSTALL tweeDEseq StartedAt: 2025-02-09 15:05:48 -0500 (Sun, 09 Feb 2025) EndedAt: 2025-02-09 15:05:57 -0500 (Sun, 09 Feb 2025) EllapsedTime: 8.9 seconds RetCode: 0 Status: OK