Package: tweeDEseq Version: 1.53.0 Command: rm -rf tweeDEseq.buildbin-libdir && mkdir tweeDEseq.buildbin-libdir && E:\biocbuild\bbs-3.21-bioc\R\bin\R.exe CMD INSTALL --build --library=tweeDEseq.buildbin-libdir tweeDEseq_1.53.0.tar.gz StartedAt: 2025-02-10 08:55:09 -0500 (Mon, 10 Feb 2025) EndedAt: 2025-02-10 08:55:41 -0500 (Mon, 10 Feb 2025) EllapsedTime: 32.0 seconds RetCode: 0 Status: OK PackageFile: tweeDEseq_1.53.0.zip PackageFileSize: 360.8 KiB