Package: tweeDEseq Version: 1.53.0 Command: chmod a+r tweeDEseq -R && E:\biocbuild\bbs-3.21-bioc\R\bin\R.exe CMD build --keep-empty-dirs --no-resave-data tweeDEseq StartedAt: 2025-02-09 22:12:32 -0500 (Sun, 09 Feb 2025) EndedAt: 2025-02-09 22:22:04 -0500 (Sun, 09 Feb 2025) EllapsedTime: 571.6 seconds RetCode: 0 Status: OK PackageFile: tweeDEseq_1.53.0.tar.gz PackageFileSize: 234.8 KiB