Package: tweeDEseq Version: 1.53.0 Command: E:\biocbuild\bbs-3.21-bioc\R\bin\R.exe CMD INSTALL tweeDEseq StartedAt: 2025-02-09 16:01:40 -0500 (Sun, 09 Feb 2025) EndedAt: 2025-02-09 16:02:09 -0500 (Sun, 09 Feb 2025) EllapsedTime: 29.4 seconds RetCode: 0 Status: OK