Package: txcutr Version: 1.13.0 Command: /home/biocbuild/bbs-3.21-bioc/R/bin/R CMD INSTALL txcutr StartedAt: 2025-02-09 15:38:38 -0500 (Sun, 09 Feb 2025) EndedAt: 2025-02-09 15:39:15 -0500 (Sun, 09 Feb 2025) EllapsedTime: 37.5 seconds RetCode: 0 Status: OK