Package: txcutr Version: 1.13.0 Command: E:\biocbuild\bbs-3.21-bioc\R\bin\R.exe CMD INSTALL txcutr StartedAt: 2025-02-09 16:28:34 -0500 (Sun, 09 Feb 2025) EndedAt: 2025-02-09 16:29:17 -0500 (Sun, 09 Feb 2025) EllapsedTime: 43.6 seconds RetCode: 0 Status: OK