Package: txdbmaker Version: 1.3.1 Command: /Library/Frameworks/R.framework/Resources/bin/R CMD build --keep-empty-dirs --no-resave-data txdbmaker StartedAt: 2025-02-09 17:51:30 -0500 (Sun, 09 Feb 2025) EndedAt: 2025-02-09 17:52:11 -0500 (Sun, 09 Feb 2025) EllapsedTime: 40.5 seconds RetCode: 0 Status: OK PackageFile: txdbmaker_1.3.1.tar.gz PackageFileSize: 1010 KiB