Package: txdbmaker Version: 1.3.1 Command: /Library/Frameworks/R.framework/Resources/bin/R CMD INSTALL txdbmaker StartedAt: 2025-02-09 15:13:33 -0500 (Sun, 09 Feb 2025) EndedAt: 2025-02-09 15:13:49 -0500 (Sun, 09 Feb 2025) EllapsedTime: 15.7 seconds RetCode: 0 Status: OK