Package: txdbmaker Version: 1.3.1 Command: /home/biocbuild/R/R/bin/R CMD check --install=check:txdbmaker.install-out.txt --library=/home/biocbuild/R/R/site-library --no-vignettes --timings txdbmaker_1.3.1.tar.gz StartedAt: 2025-01-27 13:44:38 -0000 (Mon, 27 Jan 2025) EndedAt: 2025-01-27 13:59:48 -0000 (Mon, 27 Jan 2025) EllapsedTime: 909.7 seconds RetCode: 1 Status: ERROR CheckDir: txdbmaker.Rcheck Warnings: NA