Package: txdbmaker Version: 1.3.1 Command: /home/biocbuild/R/R/bin/R CMD INSTALL txdbmaker StartedAt: 2025-01-29 20:02:01 -0000 (Wed, 29 Jan 2025) EndedAt: 2025-01-29 20:02:54 -0000 (Wed, 29 Jan 2025) EllapsedTime: 53.1 seconds RetCode: 0 Status: OK