Package: txdbmaker Version: 1.3.1 Command: rm -rf txdbmaker.buildbin-libdir && mkdir txdbmaker.buildbin-libdir && /Users/biocbuild/BBS/utils/build-universal.sh txdbmaker_1.3.1.tar.gz /Library/Frameworks/R.framework/Resources/bin/R txdbmaker.buildbin-libdir StartedAt: 2025-02-10 01:21:40 -0500 (Mon, 10 Feb 2025) EndedAt: 2025-02-10 01:22:37 -0500 (Mon, 10 Feb 2025) EllapsedTime: 57.2 seconds RetCode: 0 Status: OK PackageFile: txdbmaker_1.3.1.tgz PackageFileSize: 1.254 MiB