Package: txdbmaker Version: 1.3.1 Command: /Library/Frameworks/R.framework/Resources/bin/R CMD build --keep-empty-dirs --no-resave-data txdbmaker StartedAt: 2025-02-03 18:42:29 -0500 (Mon, 03 Feb 2025) EndedAt: 2025-02-03 18:44:02 -0500 (Mon, 03 Feb 2025) EllapsedTime: 92.5 seconds RetCode: 0 Status: OK PackageFile: txdbmaker_1.3.1.tar.gz PackageFileSize: 1010 KiB