Package: txdbmaker Version: 1.3.1 Command: /Library/Frameworks/R.framework/Resources/bin/R CMD check --install=check:txdbmaker.install-out.txt --library=/Library/Frameworks/R.framework/Resources/library --no-vignettes --timings txdbmaker_1.3.1.tar.gz StartedAt: 2025-02-03 23:58:13 -0500 (Mon, 03 Feb 2025) EndedAt: 2025-02-04 00:09:48 -0500 (Tue, 04 Feb 2025) EllapsedTime: 695.2 seconds RetCode: 0 Status: OK CheckDir: txdbmaker.Rcheck Warnings: 0