Package: txdbmaker Version: 1.3.1 Command: /home/biocbuild/bbs-3.21-bioc/R/bin/R CMD build --keep-empty-dirs --no-resave-data txdbmaker StartedAt: 2025-02-09 19:41:03 -0500 (Sun, 09 Feb 2025) EndedAt: 2025-02-09 19:42:31 -0500 (Sun, 09 Feb 2025) EllapsedTime: 88.1 seconds RetCode: 0 Status: OK PackageFile: txdbmaker_1.3.1.tar.gz PackageFileSize: 1010 KiB