Package: txdbmaker Version: 1.3.1 Command: /home/biocbuild/bbs-3.21-bioc/R/bin/R CMD check --install=check:txdbmaker.install-out.txt --library=/home/biocbuild/bbs-3.21-bioc/R/site-library --timings txdbmaker_1.3.1.tar.gz StartedAt: 2025-02-10 03:35:33 -0500 (Mon, 10 Feb 2025) EndedAt: 2025-02-10 03:47:33 -0500 (Mon, 10 Feb 2025) EllapsedTime: 719.9 seconds RetCode: 0 Status: OK CheckDir: txdbmaker.Rcheck Warnings: 0