Package: txdbmaker Version: 1.3.1 Command: /home/biocbuild/bbs-3.21-bioc/R/bin/R CMD INSTALL txdbmaker StartedAt: 2025-02-03 15:46:37 -0500 (Mon, 03 Feb 2025) EndedAt: 2025-02-03 15:47:16 -0500 (Mon, 03 Feb 2025) EllapsedTime: 39.3 seconds RetCode: 0 Status: OK