Package: txdbmaker Version: 1.3.1 Command: rm -rf txdbmaker.buildbin-libdir && mkdir txdbmaker.buildbin-libdir && E:\biocbuild\bbs-3.21-bioc\R\bin\R.exe CMD INSTALL --build --library=txdbmaker.buildbin-libdir txdbmaker_1.3.1.tar.gz StartedAt: 2025-02-10 08:55:13 -0500 (Mon, 10 Feb 2025) EndedAt: 2025-02-10 08:56:45 -0500 (Mon, 10 Feb 2025) EllapsedTime: 91.7 seconds RetCode: 0 Status: OK PackageFile: txdbmaker_1.3.1.zip PackageFileSize: 1.248 MiB