Package: txdbmaker Version: 1.3.1 Command: chmod a+r txdbmaker -R && E:\biocbuild\bbs-3.21-bioc\R\bin\R.exe CMD build --keep-empty-dirs --no-resave-data txdbmaker StartedAt: 2025-02-09 22:12:45 -0500 (Sun, 09 Feb 2025) EndedAt: 2025-02-09 22:14:54 -0500 (Sun, 09 Feb 2025) EllapsedTime: 129.5 seconds RetCode: 0 Status: OK PackageFile: txdbmaker_1.3.1.tar.gz PackageFileSize: 14.53 MiB