Package: txdbmaker Version: 1.3.1 Command: E:\biocbuild\bbs-3.21-bioc\R\bin\R.exe CMD check --no-multiarch --install=check:txdbmaker.install-out.txt --library=E:\biocbuild\bbs-3.21-bioc\R\library --no-vignettes --timings txdbmaker_1.3.1.tar.gz StartedAt: 2025-02-10 06:26:13 -0500 (Mon, 10 Feb 2025) EndedAt: 2025-02-10 06:36:39 -0500 (Mon, 10 Feb 2025) EllapsedTime: 626.0 seconds RetCode: 1 Status: ERROR CheckDir: txdbmaker.Rcheck Warnings: NA