Package: txdbmaker Version: 1.3.1 Command: E:\biocbuild\bbs-3.21-bioc\R\bin\R.exe CMD INSTALL txdbmaker StartedAt: 2025-02-03 16:38:24 -0500 (Mon, 03 Feb 2025) EndedAt: 2025-02-03 16:39:36 -0500 (Mon, 03 Feb 2025) EllapsedTime: 71.5 seconds RetCode: 0 Status: OK