Package: tximeta Version: 1.25.2 Command: rm -rf tximeta.buildbin-libdir && mkdir tximeta.buildbin-libdir && /Users/biocbuild/BBS/utils/build-universal.sh tximeta_1.25.2.tar.gz /Library/Frameworks/R.framework/Resources/bin/R tximeta.buildbin-libdir StartedAt: 2025-02-10 01:21:40 -0500 (Mon, 10 Feb 2025) EndedAt: 2025-02-10 01:22:38 -0500 (Mon, 10 Feb 2025) EllapsedTime: 58.3 seconds RetCode: 0 Status: OK PackageFile: tximeta_1.25.2.tgz PackageFileSize: 1.103 MiB