Package: tximeta Version: 1.25.2 Command: /Library/Frameworks/R.framework/Resources/bin/R CMD build --keep-empty-dirs --no-resave-data tximeta StartedAt: 2025-02-09 18:47:33 -0500 (Sun, 09 Feb 2025) EndedAt: 2025-02-09 18:49:24 -0500 (Sun, 09 Feb 2025) EllapsedTime: 111.0 seconds RetCode: 0 Status: OK PackageFile: tximeta_1.25.2.tar.gz PackageFileSize: 1.332 MiB