Package: tximeta Version: 1.25.2 Command: /Library/Frameworks/R.framework/Resources/bin/R CMD INSTALL tximeta StartedAt: 2025-02-09 15:23:42 -0500 (Sun, 09 Feb 2025) EndedAt: 2025-02-09 15:24:35 -0500 (Sun, 09 Feb 2025) EllapsedTime: 53.1 seconds RetCode: 0 Status: OK