Package: tximeta Version: 1.25.2 Command: /home/biocbuild/bbs-3.21-bioc/R/bin/R CMD build --keep-empty-dirs --no-resave-data tximeta StartedAt: 2025-02-09 19:41:04 -0500 (Sun, 09 Feb 2025) EndedAt: 2025-02-09 19:42:41 -0500 (Sun, 09 Feb 2025) EllapsedTime: 97.1 seconds RetCode: 0 Status: OK PackageFile: tximeta_1.25.2.tar.gz PackageFileSize: 1.332 MiB