Package: tximeta Version: 1.25.2 Command: chmod a+r tximeta -R && E:\biocbuild\bbs-3.21-bioc\R\bin\R.exe CMD build --keep-empty-dirs --no-resave-data tximeta StartedAt: 2025-02-09 22:12:49 -0500 (Sun, 09 Feb 2025) EndedAt: 2025-02-09 22:15:03 -0500 (Sun, 09 Feb 2025) EllapsedTime: 133.7 seconds RetCode: 0 Status: OK PackageFile: tximeta_1.25.2.tar.gz PackageFileSize: 1.333 MiB