Package: tximeta Version: 1.25.2 Command: E:\biocbuild\bbs-3.21-bioc\R\bin\R.exe CMD INSTALL tximeta StartedAt: 2025-02-09 16:49:50 -0500 (Sun, 09 Feb 2025) EndedAt: 2025-02-09 16:50:38 -0500 (Sun, 09 Feb 2025) EllapsedTime: 47.9 seconds RetCode: 0 Status: OK