Package: uSORT Version: 1.33.0 Maintainer: Hao Chen MaintainerEmail: chen_hao at immunol.a-star.edu.sg git_url: https://git.bioconductor.org/packages/uSORT git_branch: devel git_last_commit: 9c366f2 git_last_commit_date: 2024-10-29 10:14:04 -0500 (Tue, 29 Oct 2024)