Package: uSORT Version: 1.33.0 Command: rm -rf uSORT.buildbin-libdir && mkdir uSORT.buildbin-libdir && /Users/biocbuild/BBS/utils/build-universal.sh uSORT_1.33.0.tar.gz /Library/Frameworks/R.framework/Resources/bin/R uSORT.buildbin-libdir StartedAt: 2025-02-03 23:10:04 -0500 (Mon, 03 Feb 2025) EndedAt: 2025-02-03 23:10:26 -0500 (Mon, 03 Feb 2025) EllapsedTime: 21.4 seconds RetCode: 0 Status: OK PackageFile: uSORT_1.33.0.tgz PackageFileSize: 1.975 MiB