Package: uSORT Version: 1.33.0 Command: /Library/Frameworks/R.framework/Resources/bin/R CMD build --keep-empty-dirs --no-resave-data uSORT StartedAt: 2025-02-09 18:48:12 -0500 (Sun, 09 Feb 2025) EndedAt: 2025-02-09 18:48:55 -0500 (Sun, 09 Feb 2025) EllapsedTime: 42.3 seconds RetCode: 0 Status: OK PackageFile: uSORT_1.33.0.tar.gz PackageFileSize: 2.814 MiB