Package: uSORT Version: 1.33.0 Command: /Library/Frameworks/R.framework/Resources/bin/R CMD INSTALL uSORT StartedAt: 2025-02-09 15:09:02 -0500 (Sun, 09 Feb 2025) EndedAt: 2025-02-09 15:09:35 -0500 (Sun, 09 Feb 2025) EllapsedTime: 33.1 seconds RetCode: 0 Status: OK