Package: uSORT Version: 1.33.0 Command: /home/biocbuild/bbs-3.21-bioc/R/bin/R CMD check --install=check:uSORT.install-out.txt --library=/home/biocbuild/bbs-3.21-bioc/R/site-library --timings uSORT_1.33.0.tar.gz StartedAt: 2025-02-10 03:38:16 -0500 (Mon, 10 Feb 2025) EndedAt: 2025-02-10 03:41:10 -0500 (Mon, 10 Feb 2025) EllapsedTime: 173.2 seconds RetCode: 0 Status: WARNINGS CheckDir: uSORT.Rcheck Warnings: 1