Package: uSORT Version: 1.33.0 Command: /home/biocbuild/bbs-3.21-bioc/R/bin/R CMD INSTALL uSORT StartedAt: 2025-02-09 15:14:23 -0500 (Sun, 09 Feb 2025) EndedAt: 2025-02-09 15:14:43 -0500 (Sun, 09 Feb 2025) EllapsedTime: 19.4 seconds RetCode: 0 Status: OK