Package: uSORT Version: 1.33.0 Command: rm -rf uSORT.buildbin-libdir && mkdir uSORT.buildbin-libdir && E:\biocbuild\bbs-3.21-bioc\R\bin\R.exe CMD INSTALL --build --library=uSORT.buildbin-libdir uSORT_1.33.0.tar.gz StartedAt: 2025-02-04 09:08:59 -0500 (Tue, 04 Feb 2025) EndedAt: 2025-02-04 09:09:40 -0500 (Tue, 04 Feb 2025) EllapsedTime: 41.0 seconds RetCode: 0 Status: OK PackageFile: uSORT_1.33.0.zip PackageFileSize: 1.967 MiB