Package: uSORT Version: 1.33.0 Command: chmod a+r uSORT -R && E:\biocbuild\bbs-3.21-bioc\R\bin\R.exe CMD build --keep-empty-dirs --no-resave-data uSORT StartedAt: 2025-02-09 22:14:32 -0500 (Sun, 09 Feb 2025) EndedAt: 2025-02-09 22:15:14 -0500 (Sun, 09 Feb 2025) EllapsedTime: 41.8 seconds RetCode: 0 Status: OK PackageFile: uSORT_1.33.0.tar.gz PackageFileSize: 2.814 MiB