Package: uSORT Version: 1.33.0 Command: E:\biocbuild\bbs-3.21-bioc\R\bin\R.exe CMD check --no-multiarch --install=check:uSORT.install-out.txt --library=E:\biocbuild\bbs-3.21-bioc\R\library --no-vignettes --timings uSORT_1.33.0.tar.gz StartedAt: 2025-02-04 06:53:25 -0500 (Tue, 04 Feb 2025) EndedAt: 2025-02-04 06:56:19 -0500 (Tue, 04 Feb 2025) EllapsedTime: 174.1 seconds RetCode: 0 Status: WARNINGS CheckDir: uSORT.Rcheck Warnings: 1