Package: unifiedWMWqPCR Version: 1.43.0 Command: /Library/Frameworks/R.framework/Resources/bin/R CMD check --install=check:unifiedWMWqPCR.install-out.txt --library=/Library/Frameworks/R.framework/Resources/library --no-vignettes --timings unifiedWMWqPCR_1.43.0.tar.gz StartedAt: 2025-02-09 21:52:58 -0500 (Sun, 09 Feb 2025) EndedAt: 2025-02-09 21:53:15 -0500 (Sun, 09 Feb 2025) EllapsedTime: 16.2 seconds RetCode: 0 Status: OK CheckDir: unifiedWMWqPCR.Rcheck Warnings: 0