Package: unifiedWMWqPCR Version: 1.43.0 Command: /Library/Frameworks/R.framework/Resources/bin/R CMD INSTALL unifiedWMWqPCR StartedAt: 2025-02-09 15:07:11 -0500 (Sun, 09 Feb 2025) EndedAt: 2025-02-09 15:07:43 -0500 (Sun, 09 Feb 2025) EllapsedTime: 32.4 seconds RetCode: 0 Status: OK