Package: unifiedWMWqPCR Version: 1.43.0 Command: /home/biocbuild/bbs-3.21-bioc/R/bin/R CMD INSTALL unifiedWMWqPCR StartedAt: 2025-02-12 15:12:03 -0500 (Wed, 12 Feb 2025) EndedAt: 2025-02-12 15:12:07 -0500 (Wed, 12 Feb 2025) EllapsedTime: 4.0 seconds RetCode: 0 Status: OK