Package: universalmotif Version: 1.25.1 Command: rm -rf universalmotif.buildbin-libdir && mkdir universalmotif.buildbin-libdir && /Users/biocbuild/BBS/utils/build-universal.sh universalmotif_1.25.1.tar.gz /Library/Frameworks/R.framework/Resources/bin/R universalmotif.buildbin-libdir StartedAt: 2025-02-09 22:34:24 -0500 (Sun, 09 Feb 2025) EndedAt: 2025-02-09 22:35:00 -0500 (Sun, 09 Feb 2025) EllapsedTime: 35.7 seconds RetCode: 0 Status: OK PackageFile: universalmotif_1.25.1.tgz PackageFileSize: 5.633 MiB